BEGIN:VCALENDAR
VERSION:2.0
PRODID:-//JVP - Junge ÖVP Wien - ECPv6.15.17.1//NONSGML v1.0//EN
CALSCALE:GREGORIAN
METHOD:PUBLISH
X-WR-CALNAME:JVP - Junge ÖVP Wien
X-ORIGINAL-URL:https://www.jvp-wien.at
X-WR-CALDESC:Veranstaltungen für JVP - Junge ÖVP Wien
REFRESH-INTERVAL;VALUE=DURATION:PT1H
X-Robots-Tag:noindex
X-PUBLISHED-TTL:PT1H
BEGIN:VTIMEZONE
TZID:Europe/Vienna
BEGIN:DAYLIGHT
TZOFFSETFROM:+0100
TZOFFSETTO:+0200
TZNAME:CEST
DTSTART:20190331T010000
END:DAYLIGHT
BEGIN:STANDARD
TZOFFSETFROM:+0200
TZOFFSETTO:+0100
TZNAME:CET
DTSTART:20191027T010000
END:STANDARD
BEGIN:DAYLIGHT
TZOFFSETFROM:+0100
TZOFFSETTO:+0200
TZNAME:CEST
DTSTART:20200329T010000
END:DAYLIGHT
BEGIN:STANDARD
TZOFFSETFROM:+0200
TZOFFSETTO:+0100
TZNAME:CET
DTSTART:20201025T010000
END:STANDARD
BEGIN:DAYLIGHT
TZOFFSETFROM:+0100
TZOFFSETTO:+0200
TZNAME:CEST
DTSTART:20210328T010000
END:DAYLIGHT
BEGIN:STANDARD
TZOFFSETFROM:+0200
TZOFFSETTO:+0100
TZNAME:CET
DTSTART:20211031T010000
END:STANDARD
END:VTIMEZONE
BEGIN:VEVENT
DTSTART;TZID=Europe/Vienna:20200303T190000
DTEND;TZID=Europe/Vienna:20200303T210000
DTSTAMP:20260421T024543
CREATED:20200218T132546Z
LAST-MODIFIED:20200218T132546Z
UID:1564-1583262000-1583269200@www.jvp-wien.at
SUMMARY:Bezirkstag der JVP 16
DESCRIPTION:Am 03.032020 wird ein neues Vorstandsteam der JVP 16 gewählt. \nSei dabei wenn bestimmt wird\, wie es die nächsten 3 Jahre in Ottakring weitergehen soll!
URL:https://www.jvp-wien.at/event/bezirkstag-der-jvp-16/
LOCATION:Junge ÖVP Wien\, Lichtenfelsgasse 7\, WIen\, 1010\, Österreich
ORGANIZER;CN="Junge %C3%96VP Ottakring":MAILTO:ottakring@jvpwien.at
END:VEVENT
END:VCALENDAR